BEGIN:VCALENDAR
VERSION:2.0
PRODID:-//www.ransonwv.us - ECPv6.15.20//NONSGML v1.0//EN
CALSCALE:GREGORIAN
METHOD:PUBLISH
X-WR-CALNAME:www.ransonwv.us
X-ORIGINAL-URL:https://www.ransonwv.us
X-WR-CALDESC:Events for www.ransonwv.us
REFRESH-INTERVAL;VALUE=DURATION:PT1H
X-Robots-Tag:noindex
X-PUBLISHED-TTL:PT1H
BEGIN:VTIMEZONE
TZID:UTC
BEGIN:STANDARD
TZOFFSETFROM:+0000
TZOFFSETTO:+0000
TZNAME:UTC
DTSTART:20210101T000000
END:STANDARD
END:VTIMEZONE
BEGIN:VEVENT
DTSTART;TZID=UTC:20221001T080000
DTEND;TZID=UTC:20221001T100000
DTSTAMP:20260421T170012
CREATED:20221001T004426Z
LAST-MODIFIED:20221001T004426Z
UID:8386-1664611200-1664618400@www.ransonwv.us
SUMMARY:Animal Welfare Society Fall Rabies Clinic
DESCRIPTION:The Animal Welfare Society of Jefferson County will be having their annual fall Rabies Clinic on Saturday\, October 1st\, at the Royal Order of the Moose Pavilion at 77 Universal Forrest Product Rd. in Ranson\, WV from 8:00 a.m.–10:00 a.m. Due to Covid Virus\, this clinic will be Drive Thru only. All customers must wear face masks. All customers and pets will stay in their cars for registration. Customers will take their pets out of the car for the vaccination under the pavilion. To eliminate traffic congestion\, please do not arrive earlier than 7:45. Dr. Alice Ellis\, DVM will be vaccinating dogs and cats at 4 months of age and over. All dogs must be on a leash and cats must be in carriers. There will be a secure\, enclosed area available to safely vaccinate cats. The vaccination cost is $10.00 cash or check for each pet. If your pet has been previously vaccinated\, you must bring previous Rabies Certificate to receive a three (3) year Vaccination and Certificate\, otherwise\, the vaccination will be valid for 1 year only. In addition\, if this is your pet’s first Rabies vaccine or they are overdue\, the vaccine will be valid for one year.
URL:https://www.ransonwv.us/event/animal-welfare-society-fall-rabies-clinic/
LOCATION:Royal Order of the Moose Pavilion\, 77 Universal Forrest Product Rd.\, Ranson\, WV\, 25438\, United States
CATEGORIES:Community Events
ATTACH;FMTTYPE=image/jpeg:https://www.ransonwv.us/wp-content/uploads/2022/09/rabies.jpg
END:VEVENT
BEGIN:VEVENT
DTSTART;VALUE=DATE:20221001
DTEND;VALUE=DATE:20221003
DTSTAMP:20260421T170012
CREATED:20221001T004112Z
LAST-MODIFIED:20221001T004137Z
UID:8381-1664582400-1664755199@www.ransonwv.us
SUMMARY:Shepherdstown Community Club 1st Weekend Handmade Market
DESCRIPTION:Our mission is to bring together the finest artists and crafters from the local region and provide a quality handmade market that will benefit both our customers and the community. The Shepherdstown Community Club (SCC) supports many civic events\, cultural activities\, and social gatherings as well as public facilities such as the War Memorial Building and Morgan Grove Park. We hope you join us in our extensive celebration of arts\, crafts and community!
URL:https://www.ransonwv.us/event/shepherdstown-community-club-1st-weekend-handmade-market/
LOCATION:War Memorial Building\, 102 E. German St.\, Shepherdstown\, WV\, 25443\, United States
CATEGORIES:Community Events
ATTACH;FMTTYPE=image/jpeg:https://www.ransonwv.us/wp-content/uploads/2022/09/market.jpg
END:VEVENT
BEGIN:VEVENT
DTSTART;VALUE=DATE:20221001
DTEND;VALUE=DATE:20221003
DTSTAMP:20260421T170012
CREATED:20220819T222731Z
LAST-MODIFIED:20220819T230811Z
UID:8219-1664582400-1664755199@www.ransonwv.us
SUMMARY:2nd Annual Catober Festival
DESCRIPTION:Join us for a fall fun filled festival! ?? 10 to 15 vendor tables of goodies galore. AWS tent with many raffle items! Food trucks and music for lots of family fun! Don’t forget to visit with all our furry friends!
URL:https://www.ransonwv.us/event/2nd-annual-catober-festival/
LOCATION:Animal Welfare Society\, 23 Poor Farm Rd\, Kearneysville\, WV\, 25430\, United States
CATEGORIES:Community Events
ATTACH;FMTTYPE=image/webp:https://www.ransonwv.us/wp-content/uploads/2022/08/cat.webp
END:VEVENT
BEGIN:VEVENT
DTSTART;VALUE=DATE:20221001
DTEND;VALUE=DATE:20221002
DTSTAMP:20260421T170012
CREATED:20221001T003737Z
LAST-MODIFIED:20221001T003737Z
UID:8377-1664582400-1664668799@www.ransonwv.us
SUMMARY:Charles Town Ghost Tours
DESCRIPTION:Charles Town Ghost Tours\, the original haunted walk of Charles Town\, came to life in 2009. It was the brain-child of the city’s Mayor\, Peggy Smith. She tapped Ann Khiel Fern to be the guide of what was originally only meant to be a two-night event. Little did Smith or Fern realize how popular the ghost walk tour would become with both the living and the dead! Very quickly\, the term “ghosties” came into play as many of the patrons became return participants – some of which have attended twenty or more of Fern’s tours. In 2015\, Ann Khiel Fern\, affectionately know by locals as the “Ghost Lady of Charles Town”\, published a second book on the hauntings of Jefferson County. Jefferson County\, WV – Sometimes the Dead Speak: Haunted Tales of an Historic County is available on any of the Charles Town Ghost Tours. Find out more about Fern’s books on the Books page. Ann Khiel Fern has been featured on Fox 5 News\, the television series Ghosts of Shepherdstown\, the Martinsburg\, WV\, radio station WRNR Talk Radio\, and newspapers The Journal\, located in Martinsburg\, and the Spirit of Jefferson. Charles Town Ghost Tours prides itself on the authenticity of the tales told and the honor with which the guides treat their resident spirits. Fern believes the respect shown to the dead is the reason that so many unique and unexplained experiences occur on the tours. Charles Town Ghost Tours is constantly evolving\, with new stories and sites added regularly. We hope you will join us and add spooky memories of your own.
URL:https://www.ransonwv.us/event/charles-town-ghost-tours/
LOCATION:Charles Town\, Charles Town\, 25414
CATEGORIES:Community Events
ATTACH;FMTTYPE=image/jpeg:https://www.ransonwv.us/wp-content/uploads/2022/09/ghost2.jpg
END:VEVENT
BEGIN:VEVENT
DTSTART;TZID=UTC:20220930T183000
DTEND;TZID=UTC:20220930T203000
DTSTAMP:20260421T170013
CREATED:20221001T002331Z
LAST-MODIFIED:20221001T002331Z
UID:8356-1664562600-1664569800@www.ransonwv.us
SUMMARY:Glow for a Cause 5K and 1 Mile Fun Run
DESCRIPTION:Registration will begin at 6 p.m. on race day. Admission is $10 for Shepherd students and employees and youth under 17; and $20 for the public. Proceeds will benefit our Make-A-Wish child.
URL:https://www.ransonwv.us/event/glow-for-a-cause-5k-and-1-mile-fun-run/
LOCATION:Shepherd University Wellness Center\, 164 University Dr\, Shepherdstown\, WV\, 25443\, United States
CATEGORIES:Community Events
ATTACH;FMTTYPE=image/jpeg:https://www.ransonwv.us/wp-content/uploads/2022/09/run.jpg
END:VEVENT
BEGIN:VEVENT
DTSTART;TZID=UTC:20220930T180000
DTEND;TZID=UTC:20220930T190000
DTSTAMP:20260421T170013
CREATED:20221001T002630Z
LAST-MODIFIED:20221001T002630Z
UID:8361-1664560800-1664564400@www.ransonwv.us
SUMMARY:Odd Fellows Ghost & History Tours
DESCRIPTION:Join us for ghosts\, history\, and Odd Fellows! Take a tour of the Ancient and Historic Odd Fellows Lodge in Harpers Ferry\, West Virginia. Learn the history\, the paranormal\, and even learn a few things about the Virginia Lodge #1 IOOF. It’s going to be fun and spooky
URL:https://www.ransonwv.us/event/odd-fellows-ghost-history-tours/
LOCATION:770 Fillmore St\, 770 Fillmore St\, Harpers Ferry\, WV\, 25425\, United States
CATEGORIES:Community Events
ATTACH;FMTTYPE=image/jpeg:https://www.ransonwv.us/wp-content/uploads/2022/09/ghost.jpg
END:VEVENT
BEGIN:VEVENT
DTSTART;VALUE=DATE:20220930
DTEND;VALUE=DATE:20221002
DTSTAMP:20260421T170013
CREATED:20220921T212540Z
LAST-MODIFIED:20220921T212540Z
UID:8330-1664496000-1664668799@www.ransonwv.us
SUMMARY:Tidewater Sports Card\, Collectibles & Comic Book Show
DESCRIPTION:
URL:https://www.ransonwv.us/event/tidewater-sports-card-collectibles-comic-book-show/
LOCATION:Ranson Civic Center\, 432 W 2nd Ave\, Ranson\, WV\, 25438\, United States
CATEGORIES:Community Events
ATTACH;FMTTYPE=application/pdf:https://www.ransonwv.us/wp-content/uploads/2022/09/Tidewater-Ranson-WV.pdf
END:VEVENT
BEGIN:VEVENT
DTSTART;VALUE=DATE:20220923
DTEND;VALUE=DATE:20220926
DTSTAMP:20260421T170013
CREATED:20220819T221726Z
LAST-MODIFIED:20220819T221726Z
UID:8210-1663891200-1664150399@www.ransonwv.us
SUMMARY:Mountain Heritage Arts & Crafts
DESCRIPTION:The Jefferson County Chamber of Commerce cordially invites you to come and enjoy our festival at\, Jefferson County WV Fairgrounds in the rolling countryside of Jefferson County\, WV. Leisurely stroll among the tents\, buildings and pavilions as you admire the many crafts\, fine arts\, and wine.
URL:https://www.ransonwv.us/event/mountain-heritage-arts-crafts/
LOCATION:Jefferson County Fairgrounds\, 2005 Old Leetown Pike\, Kearneysville\, WV\, 25430\, United States
CATEGORIES:Community Events
ATTACH;FMTTYPE=image/jpeg:https://www.ransonwv.us/wp-content/uploads/2022/08/arts-and-crafts.jpeg
END:VEVENT
BEGIN:VEVENT
DTSTART;TZID=UTC:20220918T110000
DTEND;TZID=UTC:20220918T180000
DTSTAMP:20260421T170013
CREATED:20220819T221056Z
LAST-MODIFIED:20220819T221056Z
UID:8205-1663498800-1663524000@www.ransonwv.us
SUMMARY:Bavarian Inn Oktoberfest  45th Anniversary
DESCRIPTION:We are pleased to announce the return of our annual Oktoberfest Celebration. And yes\, we do celebrate Oktoberfest in September!\nIt’s an outdoor festival on our 11 acre grounds that is fun for the entire family. Featuring German Food\, Band and Dancers. Also enjoy German Beer and Wine as well as the Beers of Bavarian Brother’s Brewing\, our onsite brewery. Vendors and Childrens activities also on site.\nTickets available at the gate for $5 per person. Stay tuned for more information about parking and free shuttles. Handicap Parking and Overnight Hotel Guest Parking will be onsite.
URL:https://www.ransonwv.us/event/bavarian-inn-oktoberfest-45th-anniversary/
LOCATION:Bavarian Inn Resort & Brewing Company\, 164 Shepherd Grade Rd\, Shepherdstown\, WV\, 25443\, United States
CATEGORIES:Community Events
ATTACH;FMTTYPE=image/jpeg:https://www.ransonwv.us/wp-content/uploads/2022/08/bav.jpg
END:VEVENT
BEGIN:VEVENT
DTSTART;TZID=UTC:20220917T160000
DTEND;TZID=UTC:20220917T210000
DTSTAMP:20260421T170013
CREATED:20220819T220139Z
LAST-MODIFIED:20220819T220139Z
UID:8200-1663430400-1663448400@www.ransonwv.us
SUMMARY:1st Annual Shepherdstown Beer & Food Festival
DESCRIPTION:This is an all inclusive fundraiser of fun with the ticket price to include beer\, cider\, wine\, food\, and dancing with DJ. \n*Must be 21 or older to attend* \nSupport our Youth Services programs of Shepherdstown Rotary Club in our annual fundraising event! \nPurpose of Fundraiser/Youth Services Committee:\nOur committee is within the Shepherdstown Rotary Club. The most recent projects we gave money through our foundation to local title 1 elementary schools in Jefferson County; Constructed over 100 foldable solid wood desks for virtual students and children that do not have working space at home for school work; participated in mentorship opportunities to High School students through Speech contest\, Interact support\, Rotary Youth Exchange; Park equipment donation to Morgan’s Grove Park; and two separate drives for Jefferson County Community Ministries for food and high risk needs. We are hoping to raise additional funds which are voted on by Shepherdstown Rotary to exclusively help youth in our community for our next academic year. \n 
URL:https://www.ransonwv.us/event/1st-annual-shepherdstown-beer-food-festival/
LOCATION:Morgan’s Grove Park\, Kearneysville Pike\, Shepherdstown\, WV\, 25443\, United States
CATEGORIES:Community Events
ATTACH;FMTTYPE=image/webp:https://www.ransonwv.us/wp-content/uploads/2022/08/shep.webp
END:VEVENT
BEGIN:VEVENT
DTSTART;TZID=UTC:20220911T100000
DTEND;TZID=UTC:20220911T223000
DTSTAMP:20260421T170013
CREATED:20220908T222417Z
LAST-MODIFIED:20220908T223147Z
UID:8275-1662890400-1662935400@www.ransonwv.us
SUMMARY:9/11 Remembrance Ceremony
DESCRIPTION:The Independent Fire Company will host its 21st Annual 9/11 Remembrance Ceremony on Sunday\, 11 September 2022. The commemoration will occur between the times the World Trade Center towers collapsed. The victims of the Pentagon\, in Shanksville\, PA\, in the War on Terror\, and those affected by their work on Ground Zero and the Pentagon will also be honored. Ed Hannon will be the guest speaker. Ed is a retired Captain/Paramedic with Arlington County\, VA Fire Department. He was at the Pentagon on 9/11.
URL:https://www.ransonwv.us/event/9-11-remembrance-ceremony/
LOCATION:Independent Fire Company\, Inc.\, 200 W 2nd Ave\, Ranson\, WV\, 25438\, United States
CATEGORIES:Community Events
ATTACH;FMTTYPE=image/png:https://www.ransonwv.us/wp-content/uploads/2022/09/9.png
END:VEVENT
BEGIN:VEVENT
DTSTART;TZID=UTC:20220910T130000
DTEND;TZID=UTC:20220910T150000
DTSTAMP:20260421T170013
CREATED:20220909T002223Z
LAST-MODIFIED:20220909T002223Z
UID:8285-1662814800-1662822000@www.ransonwv.us
SUMMARY:Experience "Under Fire: The Battle of Harpers Ferry\, 1862"
DESCRIPTION:Harpers Ferry\, W. Va.— Witness the power of field artillery that forced the surrender of the Harpers Ferry Union garrison in 1862–the largest surrender of Union troops of the entire Civil War. Living history volunteers from the Baltimore Light Artillery will demonstrate cannons on Saturday\, September 10 at 1\, 2\, and 3 p.m. on the Bolivar Heights battlefield\, grounds originally defended by Union troops during the battle of Harpers Ferry. Shuttles from the Visitor Center to the Bolivar Heights Battlefield and back will be provided. \nWalk a battlefield whose stories extend beyond just that of a Union defeat. The campaign continued at Antietam\, where the Union Army’s bloody victory led President Lincoln to issue the Emancipation Proclamation. These words would ultimately redefine the conflict as a war to end slavery. After the war\, the founders of Harpers Ferry’s Storer College\, a school formed to educated formerly enslaved men and women and their descendants\, purchased Bolivar Heights battlefield as a back-up plan for their campus. \nWhat: Historic weapons demonstrations at Harpers Ferry National Historical Park\, Bolivar Heights battlefield. \nWhen: Saturday\, September 10\, 1\, 2\, and 3 pm. \nWhere: Harpers Ferry National Historical Park\, Bolivar Heights battlefield (end of Whitman Avenue\, Bolivar\, WV 25245). \nWho: Baltimore Light Artillery living history group.
URL:https://www.ransonwv.us/event/experience-under-fire-the-battle-of-harpers-ferry-1862/
LOCATION:Boliver Heights Battlefield\, Whitman Ave\, Bolivar\, WV\, 25425\, United States
CATEGORIES:Community Events
ATTACH;FMTTYPE=image/png:https://www.ransonwv.us/wp-content/uploads/2022/09/boliver.png
END:VEVENT
BEGIN:VEVENT
DTSTART;TZID=UTC:20220910T110000
DTEND;TZID=UTC:20220910T180000
DTSTAMP:20260421T170013
CREATED:20220819T215755Z
LAST-MODIFIED:20220819T215755Z
UID:8195-1662807600-1662832800@www.ransonwv.us
SUMMARY:Happy Retreat Craft Beer Music Festival
DESCRIPTION:The annual Happy Retreat Craft Beer & Music Festival is held on the historic grounds of Happy Retreat\, former home of Charles Town founder Charles Washington. Join us for local craft beer\, food vendors and touring bands!
URL:https://www.ransonwv.us/event/happy-retreat-craft-beer-music-festival/
LOCATION:Happy Retreat\, 600 Mordington Ave\, Charles Town\, WV\, 25414\, United States
CATEGORIES:Community Events
ATTACH;FMTTYPE=image/webp:https://www.ransonwv.us/wp-content/uploads/2022/08/happy.webp
END:VEVENT
BEGIN:VEVENT
DTSTART;TZID=UTC:20220910T080000
DTEND;TZID=UTC:20220910T120000
DTSTAMP:20260421T170013
CREATED:20220817T154437Z
LAST-MODIFIED:20220817T154437Z
UID:8160-1662796800-1662811200@www.ransonwv.us
SUMMARY:Animal Welfare Society of Jefferson County Indoor Yard Sale
DESCRIPTION:The Animal Welfare Society of Jefferson County is having their annual Indoor Yard Sale on Saturday\, Sept. 11th from 8 a.m. to 12:00 p.m. at the Zion Episcopal Church Parish House in Charles Town\, located at 221 East Washington St. Come check out the large variety of items and help less fortunate cats and dogs in our area. All proceeds will benefit the homeless pets waiting for adoption at the Animal Welfare Society shelter on Leetown Pike\, near the Jefferson County Fairgrounds. The Animal Welfare Society of Jefferson County is a non-profit no kill shelter celebrating 70 years of helping homeless pets in our community. Visit the website at www.awsjc.org or facebook for more information on this 501(c)3\, United Way organization and to view all the wonderful cats and dogs who need loving homes.
URL:https://www.ransonwv.us/event/animal-welfare-society-of-jefferson-county-indoor-yard-sale/
LOCATION:Zion Episcopal Parish House\, 221 E. Washington St\, Charles Town\, 25414
CATEGORIES:Community Events
ATTACH;FMTTYPE=application/pdf:https://www.ransonwv.us/wp-content/uploads/2022/08/Yard-Sale-Poster-2.pdf
END:VEVENT
BEGIN:VEVENT
DTSTART;TZID=UTC:20220903T020000
DTEND;TZID=UTC:20220903T190000
DTSTAMP:20260421T170013
CREATED:20220819T214346Z
LAST-MODIFIED:20220819T214346Z
UID:8189-1662170400-1662231600@www.ransonwv.us
SUMMARY:Charles Town Car Show
DESCRIPTION:13th Annual Charles Town Car Show \nPlease purchase 1 ticket per Car Entry. Car Spots are first come first serve. You do not need a ticket if you are attending the event as a spectator. \nEvent is Rain or Shine. \nIf you are showing a car\, please be mindful of the businesses. Do not block their entry way. \n\n 
URL:https://www.ransonwv.us/event/charles-town-car-show/
LOCATION:101 E Washington St\, Charles Town\, WV\, 101 E Washington St\, Charles Town\, 25414
CATEGORIES:Community Events
ATTACH;FMTTYPE=image/webp:https://www.ransonwv.us/wp-content/uploads/2022/08/car.webp
END:VEVENT
BEGIN:VEVENT
DTSTART;VALUE=DATE:20220901
DTEND;VALUE=DATE:20221221
DTSTAMP:20260421T170013
CREATED:20220921T211805Z
LAST-MODIFIED:20220921T211805Z
UID:8323-1661990400-1671580799@www.ransonwv.us
SUMMARY:Ranson Walks: Walk 100 Miles in 100 Days
DESCRIPTION:
URL:https://www.ransonwv.us/event/ranson-walks-walk-100-miles-in-100-days/
LOCATION:Ranson Civic Center\, 432 W 2nd Ave\, Ranson\, WV\, 25438\, United States
CATEGORIES:Community Events
ATTACH;FMTTYPE=application/pdf:https://www.ransonwv.us/wp-content/uploads/2022/09/Walk-100-instructions.Ranson.2022.pdf
END:VEVENT
BEGIN:VEVENT
DTSTART;TZID=UTC:20220827T090000
DTEND;TZID=UTC:20220827T180000
DTSTAMP:20260421T170013
CREATED:20220816T004853Z
LAST-MODIFIED:20220816T004853Z
UID:8152-1661590800-1661623200@www.ransonwv.us
SUMMARY:Two Crows Antique Mall 4th Anniversary Open House
DESCRIPTION:Featuring dealer sales\, our ever-famous scavenger hunt for prizes including a gift certificate.
URL:https://www.ransonwv.us/event/two-crows-antique-mall-4th-anniversary-open-house/
LOCATION:Two Crows Antique Mall\, 1212 North Mildred Street\, Ranson\, WV\, 25438\, United States
ATTACH;FMTTYPE=image/jpeg:https://www.ransonwv.us/wp-content/uploads/2021/08/019A8268-2-scaled.jpg
END:VEVENT
BEGIN:VEVENT
DTSTART;TZID=UTC:20220826T160000
DTEND;TZID=UTC:20220826T230000
DTSTAMP:20260421T170013
CREATED:20220816T000416Z
LAST-MODIFIED:20220817T154211Z
UID:8132-1661529600-1661554800@www.ransonwv.us
SUMMARY:14th Running Charles Town Classic
DESCRIPTION:FOOD AND FUN FOR ALL AGES!\nLive entertainment\, food trucks\, beer garden\, games and contests! Plus\, live fire breathers\, sidewalk art\, a petting zoo and more! Hosted by Emcee Brian Thomas\, The Mini Entertainer. \nBe one of the first 250 people to like and comment “#charlestownclassic2022” on this post and receive a $10 Food Voucher plus Charles Town Classic swag at the activation tent the day of the Classic! *Must be a mychoice member to participate* \nMilitary and first responders – sign up for the myheroes program and receive great gifts and discounts! \nDon’t miss out on these amazing food trucks!\n\nTraditional Authentic Mexican Food: From Tacos to Nachos\, you won’t want to miss this! \nStroker’s BBq: Navy Veteran Owned\, Stroker’s BBQ doesn’t disappoint! \nThe Blues Pizza Company: Providing artisan crafted pizza pies! \nDoggy Style Food Cart: Veteran owned. 100% all-beef dogs on Martin’s Potato Buns with lots of toppings! \nDeez Donutz & Boardwalk Fryz: Made-to-order mini cake donuts & hand-cut boardwalk fries!
URL:https://www.ransonwv.us/event/14th-running-charles-town-classic/
LOCATION:Hollywood Casino at Charles Town Races\, 750 Hollywood Drive\, Charles Town\, WV\, 25414\, United States
CATEGORIES:Annual Events
ATTACH;FMTTYPE=image/jpeg:https://www.ransonwv.us/wp-content/uploads/2022/08/8-22-hwct-ctc-1920x801-1.jpg
END:VEVENT
BEGIN:VEVENT
DTSTART;TZID=UTC:20220824T193000
DTEND;TZID=UTC:20220824T193000
DTSTAMP:20260421T170013
CREATED:20220819T213815Z
LAST-MODIFIED:20220819T213823Z
UID:8185-1661369400-1661369400@www.ransonwv.us
SUMMARY:Wade Hayes at the Jefferson County Fair
DESCRIPTION:Country music recording artist Wade Hayes will perform Wednesday\, Aug. 24\, as part of the Jefferson County Fair.
URL:https://www.ransonwv.us/event/wade-hayes-jefferson-county-fair/
LOCATION:Jefferson County Fairgrounds\, 2005 Old Leetown Pike\, Kearneysville\, WV\, 25430\, United States
CATEGORIES:Community Events
ATTACH;FMTTYPE=image/png:https://www.ransonwv.us/wp-content/uploads/2022/08/wade-hayes-3-266x300-1.png
END:VEVENT
BEGIN:VEVENT
DTSTART;VALUE=DATE:20220821
DTEND;VALUE=DATE:20220828
DTSTAMP:20260421T170013
CREATED:20220819T213446Z
LAST-MODIFIED:20220819T221755Z
UID:8180-1661040000-1661644799@www.ransonwv.us
SUMMARY:Jefferson County Fair
DESCRIPTION:The Jefferson County Fair Association will provide a safe\, affordable\, and educational\, fair experience to our Jefferson County families and the community\, while ensuring the viability of the fair through continued improvements of services and facilities.
URL:https://www.ransonwv.us/event/jefferson-county-fair/
LOCATION:Jefferson County Fairgrounds\, 2005 Old Leetown Pike\, Kearneysville\, WV\, 25430\, United States
CATEGORIES:Annual Events,Community Events
ATTACH;FMTTYPE=image/jpeg:https://www.ransonwv.us/wp-content/uploads/2022/08/fair.jpg
END:VEVENT
BEGIN:VEVENT
DTSTART;VALUE=DATE:20220819
DTEND;VALUE=DATE:20220822
DTSTAMP:20260421T170013
CREATED:20220819T175406Z
LAST-MODIFIED:20220819T175406Z
UID:8175-1660867200-1661126399@www.ransonwv.us
SUMMARY:Jefferson County African-American Heritage Festival Parade
DESCRIPTION:We are excited for the return of our Annual Festival this year. \nWe will have more details of the festivities very soon. Please save the dates and we hope to see you there.
URL:https://www.ransonwv.us/event/jefferson-county-african-american-heritage-festival-parade/
LOCATION:Charles Town West Virginia
CATEGORIES:Community Events
ATTACH;FMTTYPE=image/webp:https://www.ransonwv.us/wp-content/uploads/2022/08/da6fa77ee6bb41356135c6f27c9b0cdf6be0d9ef04a17459a4d134999870d252-rimg-w960-h540-gmir.webp
END:VEVENT
BEGIN:VEVENT
DTSTART;TZID=UTC:20220618T100000
DTEND;TZID=UTC:20220618T170000
DTSTAMP:20260421T170013
CREATED:20220214T212235Z
LAST-MODIFIED:20220217T213457Z
UID:6902-1655546400-1655571600@www.ransonwv.us
SUMMARY:WV Fest 2022
DESCRIPTION:
URL:https://www.ransonwv.us/event/wv-fest-2022/
LOCATION:Downtown Charles Town\, 106 W washington Street\, Charles Town\, WV\, 25438\, United States
ATTACH;FMTTYPE=image/jpeg:https://www.ransonwv.us/wp-content/uploads/2022/02/271760702_4825640134138590_8083867063335353380_n.jpg
END:VEVENT
BEGIN:VEVENT
DTSTART;TZID=UTC:20220604T100000
DTEND;TZID=UTC:20220604T160000
DTSTAMP:20260421T170013
CREATED:20220124T200813Z
LAST-MODIFIED:20220125T213946Z
UID:6867-1654336800-1654358400@www.ransonwv.us
SUMMARY:Ranson Festival & Car Show
DESCRIPTION:
URL:https://www.ransonwv.us/event/ranson-festival-car-show/
LOCATION:WV
CATEGORIES:Annual Events
ATTACH;FMTTYPE=image/png:https://www.ransonwv.us/wp-content/uploads/2022/01/Save-the-Date-3.png
END:VEVENT
BEGIN:VEVENT
DTSTART;TZID=UTC:20220428T120000
DTEND;TZID=UTC:20220428T140000
DTSTAMP:20260421T170013
CREATED:20220223T002613Z
LAST-MODIFIED:20220223T002613Z
UID:7112-1651147200-1651154400@www.ransonwv.us
SUMMARY:Join the Chamber for Administrative Day!
DESCRIPTION:
URL:https://www.ransonwv.us/event/join-the-chamber-for-administrative-day/
LOCATION:WV
ATTACH;FMTTYPE=application/pdf:https://www.ransonwv.us/wp-content/uploads/2022/02/2022-RHD-Bavarian-Inn.pdf
END:VEVENT
BEGIN:VEVENT
DTSTART;TZID=UTC:20220423T110000
DTEND;TZID=UTC:20220423T120000
DTSTAMP:20260421T170013
CREATED:20220217T213341Z
LAST-MODIFIED:20220217T213416Z
UID:6917-1650711600-1650715200@www.ransonwv.us
SUMMARY:Ranson Mile 2022
DESCRIPTION:The Ranson Mile is back!!! After a 2-year hiatus\, we are SO excited to bring back this family friendly event for all ages. It’s always so much fun to see folks of all ages come out and be active together. Participants can run or walk this course and kids under 8 years old can register for free! Whether you want to run your fastest mile\, or bring your whole family out for a fun run/walk\, this event is for everyone. We’ll be celebrating our 12 year anniversary this year at Two Rivers Treads\, so the theme of the Ranson Mile will be “Birthday Party”! That means you can expect cake\, piñatas\, and birthday hats. So\, join us in celebrating health in our community on April 23rd! \n  \nHead over and register before March 15th to save: https://runsignup.com/Race/WV/Ranson/TheRansonMile
URL:https://www.ransonwv.us/event/ranson-mile-2022/
LOCATION:WV
END:VEVENT
END:VCALENDAR